BEGIN:VCALENDAR
VERSION:2.0
PRODID:-//Branch Line School - ECPv6.6.4.2//NONSGML v1.0//EN
CALSCALE:GREGORIAN
METHOD:PUBLISH
X-ORIGINAL-URL:https://branchlineschool.org
X-WR-CALDESC:Events for Branch Line School
REFRESH-INTERVAL;VALUE=DURATION:PT1H
X-Robots-Tag:noindex
X-PUBLISHED-TTL:PT1H
BEGIN:VTIMEZONE
TZID:America/Detroit
BEGIN:DAYLIGHT
TZOFFSETFROM:-0500
TZOFFSETTO:-0400
TZNAME:EDT
DTSTART:20130310T070000
END:DAYLIGHT
BEGIN:STANDARD
TZOFFSETFROM:-0400
TZOFFSETTO:-0500
TZNAME:EST
DTSTART:20131103T060000
END:STANDARD
END:VTIMEZONE
BEGIN:VEVENT
DTSTART;TZID=America/Detroit:20130623T140000
DTEND;TZID=America/Detroit:20130623T160000
DTSTAMP:20260420T065953
CREATED:20130617T042021Z
LAST-MODIFIED:20130619T160606Z
UID:782-1371996000-1372003200@branchlineschool.org
SUMMARY:Enrollment Information Event!
DESCRIPTION:Parents interested in enrolling one or more children at Branch Line School for the 2013-14\, 2014-2015 or 2015-2016 school years must pre-enroll online and attend an enrollment meeting in order to complete the application process and qualify for the lottery. \nStudents are not enrolled on a “first-come\, first-served” basis. All applications are due on Friday\, July 5\, 2013 at 12 p.m.\, are compiled and\, if necessary\, a public lottery will be held at Plymouth District Library on Monday\, July 8\, 2013 at 11:00 a.m. to allocate available spaces and determine the order of the waitlist.  Families who have attended an enrollment meeting and submitted an application are not required to attend the lottery. \nIf is helpful for our planning purposes\, but not required\, for you to let us know that you’re coming to our enrollment meeting!  \nIf you have questions\, please write to us at info@branchlineschool.org. \nBranch Line School is a tuition-free public school. The school welcomes all students and shall not discriminate on the basis of ethnic origin\, religion\, gender\, sexual orientation\, disability\, ancestry\, proficiency in the English Language\, or academic achievement. The school shall be open to all students\, on a space available basis and according to Branch Line School admission policies. \n 
URL:https://branchlineschool.org/event/enrollment-information-event-2/
LOCATION:Plymouth District Library\, 223 S. Main St. \, Plymouth\, MI\, 48170\, United States
CATEGORIES:Information Sessions
ORGANIZER;CN="Branch Line School Enrollment Team":MAILTO:info@branchlineschool.org
END:VEVENT
BEGIN:VEVENT
DTSTART;TZID=America/Detroit:20130622T110000
DTEND;TZID=America/Detroit:20130622T130000
DTSTAMP:20260420T065953
CREATED:20130617T023729Z
LAST-MODIFIED:20130619T160636Z
UID:778-1371898800-1371906000@branchlineschool.org
SUMMARY:Enrollment Information Event!
DESCRIPTION:Parents interested in enrolling one or more children at Branch Line School for the 2013-14\, 2014-2015 or 2015-2016 school years must pre-enroll online and attend an enrollment meeting in order to complete the application process and qualify for the lottery. \nStudents are not enrolled on a “first-come\, first-served” basis. All applications are due on Friday\, July 5\, 2013 at 12 p.m.\, are compiled and\, if necessary\, a public lottery will be held at Plymouth District Library on Monday\, July 8\, 2013 at 11:00 a.m. to allocate available spaces and determine the order of the waitlist.  Families who have attended an enrollment meeting and submitted an application are not required to attend the lottery. \nIf is helpful for our planning purposes\, but not required\, for you to let us know that you’re coming to our enrollment meeting!  \nIf you have questions\, please write to us at info@branchlineschool.org. \nBranch Line School is a tuition-free public school. The school welcomes all students and shall not discriminate on the basis of ethnic origin\, religion\, gender\, sexual orientation\, disability\, ancestry\, proficiency in the English Language\, or academic achievement. The school shall be open to all students\, on a space available basis and according to Branch Line School admission policies. \n 
URL:https://branchlineschool.org/event/enrollment-information-event/
LOCATION:Plymouth District Library\, 223 S. Main St. \, Plymouth\, MI\, 48170\, United States
CATEGORIES:Information Sessions
ORGANIZER;CN="Branch Line School Enrollment Team":MAILTO:info@branchlineschool.org
END:VEVENT
END:VCALENDAR